BEGIN:VCALENDAR
VERSION:2.0
PRODID:-//CEO Connection - ECPv6.15.20//NONSGML v1.0//EN
CALSCALE:GREGORIAN
METHOD:PUBLISH
X-ORIGINAL-URL:https://www.ceoconnection.com
X-WR-CALDESC:Events for CEO Connection
REFRESH-INTERVAL;VALUE=DURATION:PT1H
X-Robots-Tag:noindex
X-PUBLISHED-TTL:PT1H
BEGIN:VTIMEZONE
TZID:America/New_York
BEGIN:DAYLIGHT
TZOFFSETFROM:-0500
TZOFFSETTO:-0400
TZNAME:EDT
DTSTART:20190310T070000
END:DAYLIGHT
BEGIN:STANDARD
TZOFFSETFROM:-0400
TZOFFSETTO:-0500
TZNAME:EST
DTSTART:20191103T060000
END:STANDARD
BEGIN:DAYLIGHT
TZOFFSETFROM:-0500
TZOFFSETTO:-0400
TZNAME:EDT
DTSTART:20200308T070000
END:DAYLIGHT
BEGIN:STANDARD
TZOFFSETFROM:-0400
TZOFFSETTO:-0500
TZNAME:EST
DTSTART:20201101T060000
END:STANDARD
BEGIN:DAYLIGHT
TZOFFSETFROM:-0500
TZOFFSETTO:-0400
TZNAME:EDT
DTSTART:20210314T070000
END:DAYLIGHT
BEGIN:STANDARD
TZOFFSETFROM:-0400
TZOFFSETTO:-0500
TZNAME:EST
DTSTART:20211107T060000
END:STANDARD
END:VTIMEZONE
BEGIN:VEVENT
DTSTART;TZID=America/New_York:20200203T173000
DTEND;TZID=America/New_York:20200203T183000
DTSTAMP:20260420T124259
CREATED:20200106T190046Z
LAST-MODIFIED:20200107T130241Z
UID:12897-1580751000-1580754600@www.ceoconnection.com
SUMMARY:M&A Advisory Board Meeting
DESCRIPTION:The CEO Connection M&A Advisory Board focuses on helping our members as buyers and/or sellers through the acquisition process. \nThe mission of the M&A Advisory Board is to ensure that the CEOC M&A Connection Network serves as a vehicle to: \n\nDevelop and create opportunities for our members who want to buy or sell companies\nProvide our members with special resources to assess\, structure and fund deals; then\, integrate the companies after the deal is done\nShare best practices for the M&A process
URL:https://www.ceoconnection.com/event/ma-advisory-board-meeting/
CATEGORIES:Committee Call
ATTACH;FMTTYPE=image/jpeg:https://www.ceoconnection.com/wp-content/uploads/2020/01/images.jpeg
END:VEVENT
BEGIN:VEVENT
DTSTART;TZID=America/New_York:20200210T173000
DTEND;TZID=America/New_York:20200210T183000
DTSTAMP:20260420T124259
CREATED:20200106T190556Z
LAST-MODIFIED:20200107T134317Z
UID:12900-1581355800-1581359400@www.ceoconnection.com
SUMMARY:Talent Management Committee Meeting
DESCRIPTION:The CEO Connection Talent Management Committee focuses on helping mid-market companies compete in the war for talent … and win. \nThe mission of the Talent Management Committee is to: \n\nIdentify and create opportunities for CEO Connection members and the mid-market at large around recruiting\, onboarding\, training and retaining talent.\nDevelop and encourage programs that can be support individual mid-market companies and the mid-market at large compete for talent.\nConnect CEO Connection members to resources that can help with Talent Management.
URL:https://www.ceoconnection.com/event/talent-management-committee-meeting/
CATEGORIES:Committee Call
ATTACH;FMTTYPE=image/jpeg:https://www.ceoconnection.com/wp-content/uploads/2020/01/Unknown.jpeg
END:VEVENT
BEGIN:VEVENT
DTSTART;TZID=America/New_York:20200211T123000
DTEND;TZID=America/New_York:20200211T140000
DTSTAMP:20260420T124259
CREATED:20190710T162403Z
LAST-MODIFIED:20200117T192539Z
UID:11299-1581424200-1581429600@www.ceoconnection.com
SUMMARY:CEO Lunch
DESCRIPTION:Open to all CEO Connection members \nSmall groups of CEOs are invited each month for lunch in an informal setting. Hosted by Kenneth Beck at the Penn Club\, these lunches provide an opportunity to talk off-the-record at one of the most prestigious private clubs in New York. You must register to participate. \nRegister by emailing shanna.smith@ceoconnection.com
URL:https://www.ceoconnection.com/event/ceo-lunch-5/
LOCATION:Penn Club\, 30 W. 44th St.\, New York\, NY\, United States
CATEGORIES:CEO Lunch
ATTACH;FMTTYPE=image/png:https://www.ceoconnection.com/wp-content/uploads/2019/07/220.png
END:VEVENT
END:VCALENDAR