BEGIN:VCALENDAR
VERSION:2.0
PRODID:-//CEO Connection - ECPv6.15.20//NONSGML v1.0//EN
CALSCALE:GREGORIAN
METHOD:PUBLISH
X-WR-CALNAME:CEO Connection
X-ORIGINAL-URL:https://www.ceoconnection.com
X-WR-CALDESC:Events for CEO Connection
REFRESH-INTERVAL;VALUE=DURATION:PT1H
X-Robots-Tag:noindex
X-PUBLISHED-TTL:PT1H
BEGIN:VTIMEZONE
TZID:America/New_York
BEGIN:DAYLIGHT
TZOFFSETFROM:-0500
TZOFFSETTO:-0400
TZNAME:EDT
DTSTART:20180311T070000
END:DAYLIGHT
BEGIN:STANDARD
TZOFFSETFROM:-0400
TZOFFSETTO:-0500
TZNAME:EST
DTSTART:20181104T060000
END:STANDARD
BEGIN:DAYLIGHT
TZOFFSETFROM:-0500
TZOFFSETTO:-0400
TZNAME:EDT
DTSTART:20190310T070000
END:DAYLIGHT
BEGIN:STANDARD
TZOFFSETFROM:-0400
TZOFFSETTO:-0500
TZNAME:EST
DTSTART:20191103T060000
END:STANDARD
BEGIN:DAYLIGHT
TZOFFSETFROM:-0500
TZOFFSETTO:-0400
TZNAME:EDT
DTSTART:20200308T070000
END:DAYLIGHT
BEGIN:STANDARD
TZOFFSETFROM:-0400
TZOFFSETTO:-0500
TZNAME:EST
DTSTART:20201101T060000
END:STANDARD
END:VTIMEZONE
BEGIN:VEVENT
DTSTART;TZID=America/New_York:20191209T180000
DTEND;TZID=America/New_York:20191209T200000
DTSTAMP:20260424T093010
CREATED:20190710T142535Z
LAST-MODIFIED:20191007T154557Z
UID:11289-1575914400-1575921600@www.ceoconnection.com
SUMMARY:CEO Dinner
DESCRIPTION:CEO Connection members are invited throughout the year to mingle and make new connections or reconnect with peers. These events provide ongoing opportunities to develop and maintain relationships with fellow members and talk off-the-record with peers in an informal\, interactive environment. \nIf you would like to attend this CEO Dinner\, please email shanna.smith@ceoconnection.com \n*Attendance is limited to CEO Connection members and special guests.
URL:https://www.ceoconnection.com/event/11289/
LOCATION:Boca Raton Resort & Club\, 501 E. Camino Real\, Boca Raton\, FL\, 33432\, United States
CATEGORIES:CEO Dinner
ATTACH;FMTTYPE=image/png:https://www.ceoconnection.com/wp-content/uploads/2019/07/219.png
END:VEVENT
BEGIN:VEVENT
DTSTART;TZID=America/New_York:20191210T083000
DTEND;TZID=America/New_York:20191210T163000
DTSTAMP:20260424T093010
CREATED:20190710T142816Z
LAST-MODIFIED:20191118T180020Z
UID:11293-1575966600-1575995400@www.ceoconnection.com
SUMMARY:How to Get On a Board Workshop
DESCRIPTION:Join up to 19 other CEOs in confidential\, interactive dialogues on how to position yourself to get on a board. The CEO ‘How to Get On a Board’ Workshops are designed for mid market CEOs to provide tactical information and a plan on how to actively define\, pursue and get on your next board and how to add value once you are there.  \nFunctional experts lead roundtable discussions on: \n\nTARGETING: Participants will understand the different types of boards (public\, private\, advisory)\, their fit with the different types and characteristics of boards\, and map out their approach to stepping through different levels of boards to their ultimate target.\nMARKETING: Participants will strengthen their own personal branding\, including positioning and messaging\, and create their own marketing/selling plan across various media.\nCLOSING: Participants will have a framework to create win-win situations with potential boards\, facilitating closing the sale and doing their own due diligence.\nONBOARDING: Participants will know how to get a head start and then accelerate their contributions to their board’s strategic\, operational\, and organizational processes over their first 100-days.\nSpecific issues questions and opportunities raised by attendees.\n\nThe CEOC ‘How to Get On a Board’ Workshops are not just about the program. They are about connecting with peer CEOs who face similar challenges. This personal and intimate environment serves as a foundation for many long-term relationships\, as well as a base for future relationships developed through CEO Connection. It is all about CEOs helping CEOs. \nAt the end of the day\, participants will walk out with a customized board plan\, the tactics needed to implement that plan\, and the ability to have a strategic impact once they find the right board opportunity. Then\, as CEO Connection members\, participants have access to other resources regarding board issues including: \n\nHow to get on boards.\nWhat to do when you are on a board.\nHow to manage your board.\nHow to find people for your board.\n\nClick here to register.
URL:https://www.ceoconnection.com/event/how-to-get-on-a-board-workshop/
LOCATION:Boca Raton Resort & Club\, 501 E. Camino Real\, Boca Raton\, FL\, 33432\, United States
CATEGORIES:Workshops
ATTACH;FMTTYPE=image/jpeg:https://www.ceoconnection.com/wp-content/uploads/2019/07/200.jpg
END:VEVENT
BEGIN:VEVENT
DTSTART;TZID=America/New_York:20191210T170000
DTEND;TZID=America/New_York:20191210T183000
DTSTAMP:20260424T093010
CREATED:20190918T160119Z
LAST-MODIFIED:20191202T153451Z
UID:12174-1575997200-1576002600@www.ceoconnection.com
SUMMARY:Board Connection Reception
DESCRIPTION:  \nIf you are looking for a board seat you should not miss this special opportunity to meet with corporate\, corporate advisory\, and nonprofit boards looking for new members. \nThe Board Connection Reception is your opportunity to fast track your road to a board position\, make new connections and explore board opportunities.
URL:https://www.ceoconnection.com/event/board-connection-reception-5/
LOCATION:Boca Raton Resort & Club\, 501 E. Camino Real\, Boca Raton\, FL\, 33432\, United States
CATEGORIES:Board Connection
ATTACH;FMTTYPE=image/jpeg:https://www.ceoconnection.com/wp-content/uploads/2019/07/200.jpg
END:VEVENT
END:VCALENDAR