BEGIN:VCALENDAR
VERSION:2.0
PRODID:-//CEO Connection - ECPv6.15.20//NONSGML v1.0//EN
CALSCALE:GREGORIAN
METHOD:PUBLISH
X-ORIGINAL-URL:https://www.ceoconnection.com
X-WR-CALDESC:Events for CEO Connection
REFRESH-INTERVAL;VALUE=DURATION:PT1H
X-Robots-Tag:noindex
X-PUBLISHED-TTL:PT1H
BEGIN:VTIMEZONE
TZID:America/New_York
BEGIN:DAYLIGHT
TZOFFSETFROM:-0500
TZOFFSETTO:-0400
TZNAME:EDT
DTSTART:20250309T070000
END:DAYLIGHT
BEGIN:STANDARD
TZOFFSETFROM:-0400
TZOFFSETTO:-0500
TZNAME:EST
DTSTART:20251102T060000
END:STANDARD
BEGIN:DAYLIGHT
TZOFFSETFROM:-0500
TZOFFSETTO:-0400
TZNAME:EDT
DTSTART:20260308T070000
END:DAYLIGHT
BEGIN:STANDARD
TZOFFSETFROM:-0400
TZOFFSETTO:-0500
TZNAME:EST
DTSTART:20261101T060000
END:STANDARD
BEGIN:DAYLIGHT
TZOFFSETFROM:-0500
TZOFFSETTO:-0400
TZNAME:EDT
DTSTART:20270314T070000
END:DAYLIGHT
BEGIN:STANDARD
TZOFFSETFROM:-0400
TZOFFSETTO:-0500
TZNAME:EST
DTSTART:20271107T060000
END:STANDARD
END:VTIMEZONE
BEGIN:VEVENT
DTSTART;TZID=America/New_York:20260420T173000
DTEND;TZID=America/New_York:20260420T183000
DTSTAMP:20260419T183402
CREATED:20251028T034524Z
LAST-MODIFIED:20251028T034524Z
UID:20383-1776706200-1776709800@www.ceoconnection.com
SUMMARY:Private CEO Discussion Group Zoom Meeting
DESCRIPTION:Join other Mid-Market CEOs for a private Zoom meeting to Help Each Other and Change the World!   \nThese are exclusive CEO only discussions where we talk about the topics you want to discuss and get things done for you. \nDesigned for you to connect\, share insights\, and to strategize with other Mid-Market CEOs\, these discussion group meetings are: \n\nInteractive results orientated focused discussions about the topics you bring\nLimited to 10 CEOs to ensure quality and intimacy in discussions\nConfidential\, Small Group\, Video Meetings\n\nOver 300 connections have been made as a result of these calls including: \n\nA CEO who needed COVID support to a CEO of a hospital that could help\nA CEO who needed short term funding to a CEO who could provide it\nThree CEOs who were looking for a joint venture to each other\nFour CEOs creating a new business opportunity together\n\nRegister here for the Video Meeting
URL:https://www.ceoconnection.com/event/private-ceo-discussion-group-zoom-meeting-124/
LOCATION:Video Call
CATEGORIES:Committee Call
END:VEVENT
BEGIN:VEVENT
DTSTART;TZID=America/New_York:20260422T173000
DTEND;TZID=America/New_York:20260422T183000
DTSTAMP:20260419T183402
CREATED:20251106T172046Z
LAST-MODIFIED:20260122T221238Z
UID:20469-1776879000-1776882600@www.ceoconnection.com
SUMMARY:Executive Health Committee Meeting
DESCRIPTION:The mission of the Executive Health Committee focuses on keeping our members healthy for their families\, their companies and themselves. \nThe committee will combine the resources of the Mid-Market to: \n\nIdentify and develop resources specific to senior executives to ensure long term health.\nProvide our members with special access to screenings\, tests\, scans\, and other medical advice to proactively maintain good health.\nEnhance their ability to understand their situation\, find and access the right doctors\, receive state of the art treatments and deal with the potential results..\n\nRegister here for the Video Meeting
URL:https://www.ceoconnection.com/event/executive-health-committee-meeting-2/
LOCATION:Video Call
CATEGORIES:Committee Call
END:VEVENT
BEGIN:VEVENT
DTSTART;TZID=America/New_York:20260429T160000
DTEND;TZID=America/New_York:20260429T170000
DTSTAMP:20260419T183402
CREATED:20251106T171406Z
LAST-MODIFIED:20251106T171406Z
UID:20458-1777478400-1777482000@www.ceoconnection.com
SUMMARY:Talent Management Committee Call
DESCRIPTION:The CEO Connection Talent Management Committee focuses on helping mid-market companies compete in the war for talent … and win. \nThe mission of the Talent Management Committee is to: \n\nIdentify and create opportunities for CEO Connection members and the mid-market at large around recruiting\, onboarding\, training and retaining talent.\nDevelop and encourage programs that can support individual mid-market companies and the mid-market at large compete for talent.\nConnect CEO Connection members to resources that can help with Talent Management.\n\nChair of the Talent Management Committee: Joe Hart\, President and CEO of Dale Carnegie Training. \nRegister here for the Video Meeting
URL:https://www.ceoconnection.com/event/talent-management-committee-call-8/
LOCATION:Video Call
CATEGORIES:Committee Call
END:VEVENT
END:VCALENDAR