BEGIN:VCALENDAR
VERSION:2.0
PRODID:-//CEO Connection - ECPv6.15.20//NONSGML v1.0//EN
CALSCALE:GREGORIAN
METHOD:PUBLISH
X-WR-CALNAME:CEO Connection
X-ORIGINAL-URL:https://www.ceoconnection.com
X-WR-CALDESC:Events for CEO Connection
REFRESH-INTERVAL;VALUE=DURATION:PT1H
X-Robots-Tag:noindex
X-PUBLISHED-TTL:PT1H
BEGIN:VTIMEZONE
TZID:America/New_York
BEGIN:DAYLIGHT
TZOFFSETFROM:-0500
TZOFFSETTO:-0400
TZNAME:EDT
DTSTART:20250309T070000
END:DAYLIGHT
BEGIN:STANDARD
TZOFFSETFROM:-0400
TZOFFSETTO:-0500
TZNAME:EST
DTSTART:20251102T060000
END:STANDARD
BEGIN:DAYLIGHT
TZOFFSETFROM:-0500
TZOFFSETTO:-0400
TZNAME:EDT
DTSTART:20260308T070000
END:DAYLIGHT
BEGIN:STANDARD
TZOFFSETFROM:-0400
TZOFFSETTO:-0500
TZNAME:EST
DTSTART:20261101T060000
END:STANDARD
BEGIN:DAYLIGHT
TZOFFSETFROM:-0500
TZOFFSETTO:-0400
TZNAME:EDT
DTSTART:20270314T070000
END:DAYLIGHT
BEGIN:STANDARD
TZOFFSETFROM:-0400
TZOFFSETTO:-0500
TZNAME:EST
DTSTART:20271107T060000
END:STANDARD
END:VTIMEZONE
BEGIN:VEVENT
DTSTART;TZID=America/New_York:20260318T173000
DTEND;TZID=America/New_York:20260318T183000
DTSTAMP:20260420T042915
CREATED:20251106T170930Z
LAST-MODIFIED:20251106T170930Z
UID:20448-1773855000-1773858600@www.ceoconnection.com
SUMMARY:M&A Connection Network
DESCRIPTION:Critical to the success of any M&A strategy is to unlock the full value of the deal – whether you are on the buy side\, on the sell side\, or a private equity investor. \nThe CEO Connection Merger and Acquisition Pre-Deal Readiness Assessment provides you with: \n\nAn in-depth evaluation of where your company stands on the M&A readiness spectrum.\nImmediate suggestions for fine-tuning your readiness.\nA follow-up report that outlines a framework for improving your M&A playbook.\n\nThe M&A Readiness Pre-Assessment was created by our members for our members.  \nRegister here for the Video Meeting
URL:https://www.ceoconnection.com/event/ma-connection-network-2/
LOCATION:Video Call
CATEGORIES:Committee Call
END:VEVENT
END:VCALENDAR