BEGIN:VCALENDAR
VERSION:2.0
PRODID:-//CEO Connection - ECPv6.15.20//NONSGML v1.0//EN
CALSCALE:GREGORIAN
METHOD:PUBLISH
X-ORIGINAL-URL:https://www.ceoconnection.com
X-WR-CALDESC:Events for CEO Connection
REFRESH-INTERVAL;VALUE=DURATION:PT1H
X-Robots-Tag:noindex
X-PUBLISHED-TTL:PT1H
BEGIN:VTIMEZONE
TZID:America/New_York
BEGIN:DAYLIGHT
TZOFFSETFROM:-0500
TZOFFSETTO:-0400
TZNAME:EDT
DTSTART:20240310T070000
END:DAYLIGHT
BEGIN:STANDARD
TZOFFSETFROM:-0400
TZOFFSETTO:-0500
TZNAME:EST
DTSTART:20241103T060000
END:STANDARD
BEGIN:DAYLIGHT
TZOFFSETFROM:-0500
TZOFFSETTO:-0400
TZNAME:EDT
DTSTART:20250309T070000
END:DAYLIGHT
BEGIN:STANDARD
TZOFFSETFROM:-0400
TZOFFSETTO:-0500
TZNAME:EST
DTSTART:20251102T060000
END:STANDARD
BEGIN:DAYLIGHT
TZOFFSETFROM:-0500
TZOFFSETTO:-0400
TZNAME:EDT
DTSTART:20260308T070000
END:DAYLIGHT
BEGIN:STANDARD
TZOFFSETFROM:-0400
TZOFFSETTO:-0500
TZNAME:EST
DTSTART:20261101T060000
END:STANDARD
END:VTIMEZONE
BEGIN:VEVENT
DTSTART;TZID=America/New_York:20250811T173000
DTEND;TZID=America/New_York:20250811T183000
DTSTAMP:20260423T181628
CREATED:20250520T170323Z
LAST-MODIFIED:20250520T170323Z
UID:19996-1754933400-1754937000@www.ceoconnection.com
SUMMARY:Private CEO Discussion Group Zoom Meeting
DESCRIPTION:Join other Mid-Market CEOs for a private Zoom meeting to Help Each Other and Change the World!   \nThese are exclusive CEO only discussions where we talk about the topics you want to discuss and get things done for you. \nDesigned for you to connect\, share insights\, and to strategize with other Mid-Market CEOs\, these discussion group meetings are: \n\nInteractive results orientated focused discussions about the topics you bring\nLimited to 10 CEOs to ensure quality and intimacy in discussions\nConfidential\, Small Group\, Video Meetings\n\nOver 300 connections have been made as a result of these calls including: \n\nA CEO who needed COVID support to a CEO of a hospital that could help\nA CEO who needed short term funding to a CEO who could provide it\nThree CEOs who were looking for a joint venture to each other\nFour CEOs creating a new business opportunity together\n\nRegister here for the Video Meeting
URL:https://www.ceoconnection.com/event/private-ceo-discussion-group-zoom-meeting-114/
LOCATION:Video Call
CATEGORIES:Committee Call
END:VEVENT
BEGIN:VEVENT
DTSTART;TZID=America/New_York:20250818T173000
DTEND;TZID=America/New_York:20250818T183000
DTSTAMP:20260423T181628
CREATED:20250520T170317Z
LAST-MODIFIED:20250520T170317Z
UID:19997-1755538200-1755541800@www.ceoconnection.com
SUMMARY:Private CEO Discussion Group Zoom Meeting
DESCRIPTION:Join other Mid-Market CEOs for a private Zoom meeting to Help Each Other and Change the World!   \nThese are exclusive CEO only discussions where we talk about the topics you want to discuss and get things done for you. \nDesigned for you to connect\, share insights\, and to strategize with other Mid-Market CEOs\, these discussion group meetings are: \n\nInteractive results orientated focused discussions about the topics you bring\nLimited to 10 CEOs to ensure quality and intimacy in discussions\nConfidential\, Small Group\, Video Meetings\n\nOver 300 connections have been made as a result of these calls including: \n\nA CEO who needed COVID support to a CEO of a hospital that could help\nA CEO who needed short term funding to a CEO who could provide it\nThree CEOs who were looking for a joint venture to each other\nFour CEOs creating a new business opportunity together\n\nRegister here for the Video Meeting
URL:https://www.ceoconnection.com/event/private-ceo-discussion-group-zoom-meeting-113/
LOCATION:Video Call
CATEGORIES:Committee Call
END:VEVENT
BEGIN:VEVENT
DTSTART;TZID=America/New_York:20250821T173000
DTEND;TZID=America/New_York:20250821T183000
DTSTAMP:20260423T181628
CREATED:20250319T232340Z
LAST-MODIFIED:20250319T232340Z
UID:19891-1755797400-1755801000@www.ceoconnection.com
SUMMARY:Private CEO Discussion Group Meeting with Young Professionals
DESCRIPTION:The value of diversity of thought extends across generations. \nThe CEO Connection Young Professional Advisory Board offers you and your team the opportunity to receive unfettered\, unbiased insight into the next generation of consumers and workers. Your access to this board will enable you to: \n\nIdentify opportunities and risks in your dealings with the next generation of employees and customers.\nDefine clear paths to improve customer loyalty and employee engagement.\nProvide unique value to a generation that will drive your profits.\n\nRegister here for the Video Meeting
URL:https://www.ceoconnection.com/event/private-ceo-discussion-group-meeting-with-young-professionals-14/
LOCATION:Video Call
CATEGORIES:Committee Call
END:VEVENT
END:VCALENDAR