BEGIN:VCALENDAR
VERSION:2.0
PRODID:-//CEO Connection - ECPv6.15.20//NONSGML v1.0//EN
CALSCALE:GREGORIAN
METHOD:PUBLISH
X-ORIGINAL-URL:https://www.ceoconnection.com
X-WR-CALDESC:Events for CEO Connection
REFRESH-INTERVAL;VALUE=DURATION:PT1H
X-Robots-Tag:noindex
X-PUBLISHED-TTL:PT1H
BEGIN:VTIMEZONE
TZID:America/New_York
BEGIN:DAYLIGHT
TZOFFSETFROM:-0500
TZOFFSETTO:-0400
TZNAME:EDT
DTSTART:20240310T070000
END:DAYLIGHT
BEGIN:STANDARD
TZOFFSETFROM:-0400
TZOFFSETTO:-0500
TZNAME:EST
DTSTART:20241103T060000
END:STANDARD
BEGIN:DAYLIGHT
TZOFFSETFROM:-0500
TZOFFSETTO:-0400
TZNAME:EDT
DTSTART:20250309T070000
END:DAYLIGHT
BEGIN:STANDARD
TZOFFSETFROM:-0400
TZOFFSETTO:-0500
TZNAME:EST
DTSTART:20251102T060000
END:STANDARD
BEGIN:DAYLIGHT
TZOFFSETFROM:-0500
TZOFFSETTO:-0400
TZNAME:EDT
DTSTART:20260308T070000
END:DAYLIGHT
BEGIN:STANDARD
TZOFFSETFROM:-0400
TZOFFSETTO:-0500
TZNAME:EST
DTSTART:20261101T060000
END:STANDARD
END:VTIMEZONE
BEGIN:VEVENT
DTSTART;TZID=America/New_York:20250714T173000
DTEND;TZID=America/New_York:20250714T183000
DTSTAMP:20260423T153716
CREATED:20250520T170336Z
LAST-MODIFIED:20250520T170336Z
UID:19994-1752514200-1752517800@www.ceoconnection.com
SUMMARY:Private CEO Discussion Group Zoom Meeting
DESCRIPTION:Join other Mid-Market CEOs for a private Zoom meeting to Help Each Other and Change the World!   \nThese are exclusive CEO only discussions where we talk about the topics you want to discuss and get things done for you. \nDesigned for you to connect\, share insights\, and to strategize with other Mid-Market CEOs\, these discussion group meetings are: \n\nInteractive results orientated focused discussions about the topics you bring\nLimited to 10 CEOs to ensure quality and intimacy in discussions\nConfidential\, Small Group\, Video Meetings\n\nOver 300 connections have been made as a result of these calls including: \n\nA CEO who needed COVID support to a CEO of a hospital that could help\nA CEO who needed short term funding to a CEO who could provide it\nThree CEOs who were looking for a joint venture to each other\nFour CEOs creating a new business opportunity together\n\nRegister here for the Video Meeting
URL:https://www.ceoconnection.com/event/private-ceo-discussion-group-zoom-meeting-116/
LOCATION:Video Call
CATEGORIES:Committee Call
END:VEVENT
BEGIN:VEVENT
DTSTART;TZID=America/New_York:20250716T173000
DTEND;TZID=America/New_York:20250716T183000
DTSTAMP:20260423T153716
CREATED:20250510T022607Z
LAST-MODIFIED:20250607T014636Z
UID:19966-1752687000-1752690600@www.ceoconnection.com
SUMMARY:M&A Connection Network
DESCRIPTION:Critical to the success of any M&A strategy is to unlock the full value of the deal – whether you are on the buy side\, on the sell side\, or a private equity investor. \nThe CEO Connection Merger and Acquisition Pre-Deal Readiness Assessment provides you with: \n\nAn in-depth evaluation of where your company stands on the M&A readiness spectrum.\nImmediate suggestions for fine-tuning your readiness.\nA follow-up report that outlines a framework for improving your M&A playbook.\n\nThe M&A Readiness Pre-Assessment was created by our members for our members.  \nRegister here for the Video Meeting
URL:https://www.ceoconnection.com/event/ma-connection-network/
LOCATION:Video Call
CATEGORIES:Committee Call
END:VEVENT
BEGIN:VEVENT
DTSTART;TZID=America/New_York:20250717T173000
DTEND;TZID=America/New_York:20250717T183000
DTSTAMP:20260423T153716
CREATED:20250319T232332Z
LAST-MODIFIED:20250319T232332Z
UID:19890-1752773400-1752777000@www.ceoconnection.com
SUMMARY:Private CEO Discussion Group Meeting with Young Professionals
DESCRIPTION:The value of diversity of thought extends across generations. \nThe CEO Connection Young Professional Advisory Board offers you and your team the opportunity to receive unfettered\, unbiased insight into the next generation of consumers and workers. Your access to this board will enable you to: \n\nIdentify opportunities and risks in your dealings with the next generation of employees and customers.\nDefine clear paths to improve customer loyalty and employee engagement.\nProvide unique value to a generation that will drive your profits.\n\nRegister here for the Video Meeting
URL:https://www.ceoconnection.com/event/private-ceo-discussion-group-meeting-with-young-professionals-13/
LOCATION:Video Call
CATEGORIES:Committee Call
END:VEVENT
BEGIN:VEVENT
DTSTART;TZID=America/New_York:20250728T173000
DTEND;TZID=America/New_York:20250728T183000
DTSTAMP:20260423T153716
CREATED:20250520T170330Z
LAST-MODIFIED:20250520T170330Z
UID:19995-1753723800-1753727400@www.ceoconnection.com
SUMMARY:Private CEO Discussion Group Zoom Meeting
DESCRIPTION:Join other Mid-Market CEOs for a private Zoom meeting to Help Each Other and Change the World!   \nThese are exclusive CEO only discussions where we talk about the topics you want to discuss and get things done for you. \nDesigned for you to connect\, share insights\, and to strategize with other Mid-Market CEOs\, these discussion group meetings are: \n\nInteractive results orientated focused discussions about the topics you bring\nLimited to 10 CEOs to ensure quality and intimacy in discussions\nConfidential\, Small Group\, Video Meetings\n\nOver 300 connections have been made as a result of these calls including: \n\nA CEO who needed COVID support to a CEO of a hospital that could help\nA CEO who needed short term funding to a CEO who could provide it\nThree CEOs who were looking for a joint venture to each other\nFour CEOs creating a new business opportunity together\n\nRegister here for the Video Meeting
URL:https://www.ceoconnection.com/event/private-ceo-discussion-group-zoom-meeting-115/
LOCATION:Video Call
CATEGORIES:Committee Call
END:VEVENT
BEGIN:VEVENT
DTSTART;TZID=America/New_York:20250729T173000
DTEND;TZID=America/New_York:20250729T183000
DTSTAMP:20260423T153716
CREATED:20250606T211620Z
LAST-MODIFIED:20250606T211620Z
UID:20041-1753810200-1753813800@www.ceoconnection.com
SUMMARY:Healthcare Committee Call
DESCRIPTION:The CEO Connection Healthcare Committee develops mid-market initiatives and strategies that help our members improve both their personal healthcare and the healthcare of their employees. \nThe mission of the CEO Connection Healthcare Committee is to: \n\nIdentify and create opportunities for both individual mid-market companies and the mid-market at large to improve healthcare and manage costs in the absence of meaningful legislative changes.\nConnect members to opportunities to enhance their own healthcare programs and to share best practices for operation of these programs.\n\nRegister here for the Video Meeting
URL:https://www.ceoconnection.com/event/healthcare-committee-call-7/
LOCATION:Video Call
CATEGORIES:Committee Call
END:VEVENT
END:VCALENDAR