BEGIN:VCALENDAR
VERSION:2.0
PRODID:-//CEO Connection - ECPv6.15.20//NONSGML v1.0//EN
CALSCALE:GREGORIAN
METHOD:PUBLISH
X-ORIGINAL-URL:https://www.ceoconnection.com
X-WR-CALDESC:Events for CEO Connection
REFRESH-INTERVAL;VALUE=DURATION:PT1H
X-Robots-Tag:noindex
X-PUBLISHED-TTL:PT1H
BEGIN:VTIMEZONE
TZID:America/New_York
BEGIN:DAYLIGHT
TZOFFSETFROM:-0500
TZOFFSETTO:-0400
TZNAME:EDT
DTSTART:20240310T070000
END:DAYLIGHT
BEGIN:STANDARD
TZOFFSETFROM:-0400
TZOFFSETTO:-0500
TZNAME:EST
DTSTART:20241103T060000
END:STANDARD
BEGIN:DAYLIGHT
TZOFFSETFROM:-0500
TZOFFSETTO:-0400
TZNAME:EDT
DTSTART:20250309T070000
END:DAYLIGHT
BEGIN:STANDARD
TZOFFSETFROM:-0400
TZOFFSETTO:-0500
TZNAME:EST
DTSTART:20251102T060000
END:STANDARD
BEGIN:DAYLIGHT
TZOFFSETFROM:-0500
TZOFFSETTO:-0400
TZNAME:EDT
DTSTART:20260308T070000
END:DAYLIGHT
BEGIN:STANDARD
TZOFFSETFROM:-0400
TZOFFSETTO:-0500
TZNAME:EST
DTSTART:20261101T060000
END:STANDARD
END:VTIMEZONE
BEGIN:VEVENT
DTSTART;TZID=America/New_York:20250602T173000
DTEND;TZID=America/New_York:20250602T183000
DTSTAMP:20260423T200106
CREATED:20241108T232745Z
LAST-MODIFIED:20241108T232745Z
UID:19432-1748885400-1748889000@www.ceoconnection.com
SUMMARY:Private CEO Discussion Group Zoom Meeting
DESCRIPTION:Join other Mid-Market CEOs for a private Zoom meeting to Help Each Other and Change the World!   \nThese are exclusive CEO only discussions where we talk about the topics you want to discuss and get things done for you. \nDesigned for you to connect\, share insights\, and to strategize with other Mid-Market CEOs\, these discussion group meetings are:  \n\nInteractive results orientated focused discussions about the topics you bring \nLimited to 10 CEOs to ensure quality and intimacy in discussions  \nConfidential\, Small Group\, Video Meetings  \n\nOver 300 connections have been made as a result of these calls including: \n\nA CEO who needed COVID support to a CEO of a hospital that could help\nA CEO who needed short term funding to a CEO who could provide it\nThree CEOs who were looking for a joint venture to each other\nFour CEOs creating a new business opportunity together\n\nRegister here for the Video Meeting
URL:https://www.ceoconnection.com/event/private-ceo-discussion-group-zoom-meeting-103/
LOCATION:Video Call
CATEGORIES:Committee Call
END:VEVENT
BEGIN:VEVENT
DTSTART;TZID=America/New_York:20250610T173000
DTEND;TZID=America/New_York:20250610T183000
DTSTAMP:20260423T200106
CREATED:20250510T022129Z
LAST-MODIFIED:20250510T022705Z
UID:19964-1749576600-1749580200@www.ceoconnection.com
SUMMARY:Angel Investment Network Discussion
DESCRIPTION:The concept is simple. By combining the resources of the Mid-Market\, the CEO Connection Angel Investment Network provides you exclusive: \n\nAccess to investment opportunities in early-stage ventures.\nConnections to innovative entrepreneurs.\nCollaboration with like-minded investors.\n\nRegister here for the Video Meeting
URL:https://www.ceoconnection.com/event/angel-investment-network-discussion/
LOCATION:Video Call
CATEGORIES:Committee Call
END:VEVENT
BEGIN:VEVENT
DTSTART;TZID=America/New_York:20250612T173000
DTEND;TZID=America/New_York:20250612T183000
DTSTAMP:20260423T200106
CREATED:20241108T233546Z
LAST-MODIFIED:20250225T005835Z
UID:19450-1749749400-1749753000@www.ceoconnection.com
SUMMARY:Private CEO Discussion Group Meeting with Young Professionals
DESCRIPTION:The value of diversity of thought extends across generations. \nThe CEO Connection Young Professional Advisory Board offers you and your team the opportunity to receive unfettered\, unbiased insight into the next generation of consumers and workers. Your access to this board will enable you to: \n\nIdentify opportunities and risks in your dealings with the next generation of employees and customers.\nDefine clear paths to improve customer loyalty and employee engagement.\nProvide unique value to a generation that will drive your profits.\n\nRegister here for the Video Meeting
URL:https://www.ceoconnection.com/event/private-ceo-discussion-group-meeting-with-young-professionals-10/
LOCATION:Video Call
CATEGORIES:Committee Call
END:VEVENT
BEGIN:VEVENT
DTSTART;TZID=America/New_York:20250616T173000
DTEND;TZID=America/New_York:20250616T183000
DTSTAMP:20260423T200106
CREATED:20241108T232751Z
LAST-MODIFIED:20250225T004833Z
UID:19433-1750095000-1750098600@www.ceoconnection.com
SUMMARY:Private CEO Discussion Group Zoom Meeting
DESCRIPTION:Join other Mid-Market CEOs for a private Zoom meeting to Help Each Other and Change the World!   \nThese are exclusive CEO only discussions where we talk about the topics you want to discuss and get things done for you. \nDesigned for you to connect\, share insights\, and to strategize with other Mid-Market CEOs\, these discussion group meetings are: \n\nInteractive results orientated focused discussions about the topics you bring\nLimited to 10 CEOs to ensure quality and intimacy in discussions\nConfidential\, Small Group\, Video Meetings\n\nOver 300 connections have been made as a result of these calls including: \n\nA CEO who needed COVID support to a CEO of a hospital that could help\nA CEO who needed short term funding to a CEO who could provide it\nThree CEOs who were looking for a joint venture to each other\nFour CEOs creating a new business opportunity together\n\nRegister here for the Video Meeting
URL:https://www.ceoconnection.com/event/private-ceo-discussion-group-zoom-meeting-104/
LOCATION:Video Call
CATEGORIES:Committee Call
END:VEVENT
BEGIN:VEVENT
DTSTART;TZID=America/New_York:20250618T173000
DTEND;TZID=America/New_York:20250618T183000
DTSTAMP:20260423T200106
CREATED:20250509T153802Z
LAST-MODIFIED:20250509T153802Z
UID:19959-1750267800-1750271400@www.ceoconnection.com
SUMMARY:Mental Health Task Force Meeting
DESCRIPTION:The mission of the CEO Connection Mental Health Task Force is to provide resources for CEOC members\, their families\, and their employees who are impacted by mental illness\, that will enable them to: \n\nEnhance their ability to understand their situation\,\nFind and access the right doctors\,\nReceive state of the art treatments and\nDeal with the potential results.\n\nParticipation enables you to connect with other mid-market CEOs\, create opportunities for you and your company\, and shape mid-market perspectives\, all while collaborating on ideas to help change the world.\nYour time commitment will be minimal but your impact will be significant. \nRegister here for the Video Meeting
URL:https://www.ceoconnection.com/event/mental-health-task-force-meeting-5/
LOCATION:Video Call
CATEGORIES:Committee Call
END:VEVENT
BEGIN:VEVENT
DTSTART;TZID=America/New_York:20250623T173000
DTEND;TZID=America/New_York:20250623T183000
DTSTAMP:20260423T200106
CREATED:20250520T170344Z
LAST-MODIFIED:20250520T170344Z
UID:19993-1750699800-1750703400@www.ceoconnection.com
SUMMARY:Private CEO Discussion Group Zoom Meeting
DESCRIPTION:Join other Mid-Market CEOs for a private Zoom meeting to Help Each Other and Change the World!   \nThese are exclusive CEO only discussions where we talk about the topics you want to discuss and get things done for you. \nDesigned for you to connect\, share insights\, and to strategize with other Mid-Market CEOs\, these discussion group meetings are: \n\nInteractive results orientated focused discussions about the topics you bring\nLimited to 10 CEOs to ensure quality and intimacy in discussions\nConfidential\, Small Group\, Video Meetings\n\nOver 300 connections have been made as a result of these calls including: \n\nA CEO who needed COVID support to a CEO of a hospital that could help\nA CEO who needed short term funding to a CEO who could provide it\nThree CEOs who were looking for a joint venture to each other\nFour CEOs creating a new business opportunity together\n\nRegister here for the Video Meeting
URL:https://www.ceoconnection.com/event/private-ceo-discussion-group-zoom-meeting-117/
LOCATION:Video Call
CATEGORIES:Committee Call
END:VEVENT
END:VCALENDAR