BEGIN:VCALENDAR
VERSION:2.0
PRODID:-//CEO Connection - ECPv6.15.20//NONSGML v1.0//EN
CALSCALE:GREGORIAN
METHOD:PUBLISH
X-WR-CALNAME:CEO Connection
X-ORIGINAL-URL:https://www.ceoconnection.com
X-WR-CALDESC:Events for CEO Connection
REFRESH-INTERVAL;VALUE=DURATION:PT1H
X-Robots-Tag:noindex
X-PUBLISHED-TTL:PT1H
BEGIN:VTIMEZONE
TZID:America/New_York
BEGIN:DAYLIGHT
TZOFFSETFROM:-0500
TZOFFSETTO:-0400
TZNAME:EDT
DTSTART:20240310T070000
END:DAYLIGHT
BEGIN:STANDARD
TZOFFSETFROM:-0400
TZOFFSETTO:-0500
TZNAME:EST
DTSTART:20241103T060000
END:STANDARD
BEGIN:DAYLIGHT
TZOFFSETFROM:-0500
TZOFFSETTO:-0400
TZNAME:EDT
DTSTART:20250309T070000
END:DAYLIGHT
BEGIN:STANDARD
TZOFFSETFROM:-0400
TZOFFSETTO:-0500
TZNAME:EST
DTSTART:20251102T060000
END:STANDARD
BEGIN:DAYLIGHT
TZOFFSETFROM:-0500
TZOFFSETTO:-0400
TZNAME:EDT
DTSTART:20260308T070000
END:DAYLIGHT
BEGIN:STANDARD
TZOFFSETFROM:-0400
TZOFFSETTO:-0500
TZNAME:EST
DTSTART:20261101T060000
END:STANDARD
END:VTIMEZONE
BEGIN:VEVENT
DTSTART;TZID=America/New_York:20250505T173000
DTEND;TZID=America/New_York:20250505T183000
DTSTAMP:20260424T010326
CREATED:20241108T232728Z
LAST-MODIFIED:20250225T005314Z
UID:19430-1746466200-1746469800@www.ceoconnection.com
SUMMARY:Private CEO Discussion Group Zoom Meeting
DESCRIPTION:Join other Mid-Market CEOs for a private Zoom meeting to Help Each Other and Change the World!   \nThese are exclusive CEO only discussions where we talk about the topics you want to discuss and get things done for you. \nDesigned for you to connect\, share insights\, and to strategize with other Mid-Market CEOs\, these discussion group meetings are: \n\nInteractive results orientated focused discussions about the topics you bring\nLimited to 10 CEOs to ensure quality and intimacy in discussions\nConfidential\, Small Group\, Video Meetings\n\nOver 300 connections have been made as a result of these calls including: \n\nA CEO who needed COVID support to a CEO of a hospital that could help\nA CEO who needed short term funding to a CEO who could provide it\nThree CEOs who were looking for a joint venture to each other\nFour CEOs creating a new business opportunity together\n\nRegister here for the Video Meeting
URL:https://www.ceoconnection.com/event/private-ceo-discussion-group-zoom-meeting-101/
LOCATION:Video Call
CATEGORIES:Committee Call
END:VEVENT
BEGIN:VEVENT
DTSTART;TZID=America/New_York:20250514T173000
DTEND;TZID=America/New_York:20250514T183000
DTSTAMP:20260424T010326
CREATED:20250319T231410Z
LAST-MODIFIED:20250319T231410Z
UID:19882-1747243800-1747247400@www.ceoconnection.com
SUMMARY:Artificial Intelligence Committee Meeting
DESCRIPTION:The CEO Connection Artificial Intelligence Committee is charged with facilitating the use of AI in the Mid-Market. \nThe mission of the Artificial Intelligence Committee is to combine the resources of the mid-market to: \n\nDevelop and create opportunities that enable mid-market companies to augment their business by integrating Artificial Intelligence.\nSupport the efforts of mid-market companies that are expanding their artificial intelligence capabilities.\nConnect CEO Connection members to resources and share best practices that can enhance their use of Artificial Intelligence.\n\nParticipation enables you to connect with other mid-market CEOs\, create opportunities for you and your company\, shape mid-market perspectives\, all while collaborating on ideas to help change the world. \nThe time commitment is minimal\, but your impact will be significant. \nRegister here for the Video Meeting
URL:https://www.ceoconnection.com/event/artificial-intelligence-committee-meeting-3/
LOCATION:Video Call
CATEGORIES:Committee Call
END:VEVENT
BEGIN:VEVENT
DTSTART;TZID=America/New_York:20250519T173000
DTEND;TZID=America/New_York:20250519T183000
DTSTAMP:20260424T010326
CREATED:20241108T232736Z
LAST-MODIFIED:20250225T005311Z
UID:19431-1747675800-1747679400@www.ceoconnection.com
SUMMARY:Private CEO Discussion Group Zoom Meeting
DESCRIPTION:Join other Mid-Market CEOs for a private Zoom meeting to Help Each Other and Change the World!   \nThese are exclusive CEO only discussions where we talk about the topics you want to discuss and get things done for you. \nDesigned for you to connect\, share insights\, and to strategize with other Mid-Market CEOs\, these discussion group meetings are: \n\nInteractive results orientated focused discussions about the topics you bring\nLimited to 10 CEOs to ensure quality and intimacy in discussions\nConfidential\, Small Group\, Video Meetings\n\nOver 300 connections have been made as a result of these calls including: \n\nA CEO who needed COVID support to a CEO of a hospital that could help\nA CEO who needed short term funding to a CEO who could provide it\nThree CEOs who were looking for a joint venture to each other\nFour CEOs creating a new business opportunity together\n\nRegister here for the Video Meeting
URL:https://www.ceoconnection.com/event/private-ceo-discussion-group-zoom-meeting-102/
LOCATION:Video Call
CATEGORIES:Committee Call
END:VEVENT
BEGIN:VEVENT
DTSTART;TZID=America/New_York:20250522T173000
DTEND;TZID=America/New_York:20250522T183000
DTSTAMP:20260424T010326
CREATED:20241108T233538Z
LAST-MODIFIED:20250225T005838Z
UID:19449-1747935000-1747938600@www.ceoconnection.com
SUMMARY:Private CEO Discussion Group Meeting with Young Professionals
DESCRIPTION:The value of diversity of thought extends across generations. \nThe CEO Connection Young Professional Advisory Board offers you and your team the opportunity to receive unfettered\, unbiased insight into the next generation of consumers and workers. Your access to this board will enable you to: \n\nIdentify opportunities and risks in your dealings with the next generation of employees and customers.\nDefine clear paths to improve customer loyalty and employee engagement.\nProvide unique value to a generation that will drive your profits.\n\nRegister here for the Video Meeting
URL:https://www.ceoconnection.com/event/private-ceo-discussion-group-meeting-with-young-professionals-9/
LOCATION:Video Call
CATEGORIES:Committee Call
END:VEVENT
END:VCALENDAR