BEGIN:VCALENDAR
VERSION:2.0
PRODID:-//CEO Connection - ECPv6.15.20//NONSGML v1.0//EN
CALSCALE:GREGORIAN
METHOD:PUBLISH
X-ORIGINAL-URL:https://www.ceoconnection.com
X-WR-CALDESC:Events for CEO Connection
REFRESH-INTERVAL;VALUE=DURATION:PT1H
X-Robots-Tag:noindex
X-PUBLISHED-TTL:PT1H
BEGIN:VTIMEZONE
TZID:America/New_York
BEGIN:DAYLIGHT
TZOFFSETFROM:-0500
TZOFFSETTO:-0400
TZNAME:EDT
DTSTART:20190310T070000
END:DAYLIGHT
BEGIN:STANDARD
TZOFFSETFROM:-0400
TZOFFSETTO:-0500
TZNAME:EST
DTSTART:20191103T060000
END:STANDARD
BEGIN:DAYLIGHT
TZOFFSETFROM:-0500
TZOFFSETTO:-0400
TZNAME:EDT
DTSTART:20200308T070000
END:DAYLIGHT
BEGIN:STANDARD
TZOFFSETFROM:-0400
TZOFFSETTO:-0500
TZNAME:EST
DTSTART:20201101T060000
END:STANDARD
BEGIN:DAYLIGHT
TZOFFSETFROM:-0500
TZOFFSETTO:-0400
TZNAME:EDT
DTSTART:20210314T070000
END:DAYLIGHT
BEGIN:STANDARD
TZOFFSETFROM:-0400
TZOFFSETTO:-0500
TZNAME:EST
DTSTART:20211107T060000
END:STANDARD
END:VTIMEZONE
BEGIN:VEVENT
DTSTART;TZID=America/New_York:20200127T173000
DTEND;TZID=America/New_York:20200127T183000
DTSTAMP:20260420T123753
CREATED:20200106T185517Z
LAST-MODIFIED:20200107T130051Z
UID:12894-1580146200-1580149800@www.ceoconnection.com
SUMMARY:Women's Advisory Board Meeting
DESCRIPTION:The CEO Connection Women’s Advisory Board works to develop initiatives and strategies to increase the number of women in mid-market C-suites and on mid-market boards. \nThe mission of the Women’s Advisory Board is to ensure that the Most Influential Women of the Mid-Market list serves as a vehicle to: \nCreate awareness about the Mid-Market in general \nHelp CEO Connection members diversify their talent pool in general and in their C-Suite and on their boards specifically\nProvide role models for the next generation of leaders.
URL:https://www.ceoconnection.com/event/womens-advisory-board-meeting/
CATEGORIES:Committee Call
ATTACH;FMTTYPE=image/jpeg:https://www.ceoconnection.com/wp-content/uploads/2020/01/bernardbodo.jpg
END:VEVENT
END:VCALENDAR