BEGIN:VCALENDAR
VERSION:2.0
PRODID:-//CEO Connection - ECPv6.15.20//NONSGML v1.0//EN
CALSCALE:GREGORIAN
METHOD:PUBLISH
X-ORIGINAL-URL:https://www.ceoconnection.com
X-WR-CALDESC:Events for CEO Connection
REFRESH-INTERVAL;VALUE=DURATION:PT1H
X-Robots-Tag:noindex
X-PUBLISHED-TTL:PT1H
BEGIN:VTIMEZONE
TZID:America/New_York
BEGIN:DAYLIGHT
TZOFFSETFROM:-0500
TZOFFSETTO:-0400
TZNAME:EDT
DTSTART:20190310T070000
END:DAYLIGHT
BEGIN:STANDARD
TZOFFSETFROM:-0400
TZOFFSETTO:-0500
TZNAME:EST
DTSTART:20191103T060000
END:STANDARD
BEGIN:DAYLIGHT
TZOFFSETFROM:-0500
TZOFFSETTO:-0400
TZNAME:EDT
DTSTART:20200308T070000
END:DAYLIGHT
BEGIN:STANDARD
TZOFFSETFROM:-0400
TZOFFSETTO:-0500
TZNAME:EST
DTSTART:20201101T060000
END:STANDARD
BEGIN:DAYLIGHT
TZOFFSETFROM:-0500
TZOFFSETTO:-0400
TZNAME:EDT
DTSTART:20210314T070000
END:DAYLIGHT
BEGIN:STANDARD
TZOFFSETFROM:-0400
TZOFFSETTO:-0500
TZNAME:EST
DTSTART:20211107T060000
END:STANDARD
END:VTIMEZONE
BEGIN:VEVENT
DTSTART;TZID=America/New_York:20200120T173000
DTEND;TZID=America/New_York:20200120T183000
DTSTAMP:20260424T074238
CREATED:20200106T185359Z
LAST-MODIFIED:20200107T125935Z
UID:12890-1579541400-1579545000@www.ceoconnection.com
SUMMARY:Government Partnerships Committee Meeting
DESCRIPTION:The CEO Connection Government Partnerships Committee works to develop initiatives and strategies to increase access to government resources and programs for CEO Connection members. \nThe mission of the Government Partnerships Committee is to: \nIdentify and connect members to government programs and resources to provide new opportunities for mid-market companies. \nCreate partnerships with government agencies to develop programs to benefit CEO Connection members and the mid-market at large.\nHave an impact on government policies and regulations related to mid-market companies by establishing channels through which to provide input.
URL:https://www.ceoconnection.com/event/government-partnerships-committee-meeting/
CATEGORIES:Committee Call
ATTACH;FMTTYPE=image/jpeg:https://www.ceoconnection.com/wp-content/uploads/2020/01/Prospecter-par-téléphone.jpg
END:VEVENT
END:VCALENDAR